BEGIN:VCALENDAR
VERSION:2.0
PRODID:-//Landesfrauenrat Hamburg - ECPv6.15.17.1//NONSGML v1.0//EN
CALSCALE:GREGORIAN
METHOD:PUBLISH
X-WR-CALNAME:Landesfrauenrat Hamburg
X-ORIGINAL-URL:https://landesfrauenrat-hamburg.de
X-WR-CALDESC:Veranstaltungen für Landesfrauenrat Hamburg
REFRESH-INTERVAL;VALUE=DURATION:PT1H
X-Robots-Tag:noindex
X-PUBLISHED-TTL:PT1H
BEGIN:VTIMEZONE
TZID:UTC
BEGIN:STANDARD
TZOFFSETFROM:+0000
TZOFFSETTO:+0000
TZNAME:UTC
DTSTART:20230101T000000
END:STANDARD
END:VTIMEZONE
BEGIN:VEVENT
DTSTART;TZID=UTC:20240307T200000
DTEND;TZID=UTC:20240307T220000
DTSTAMP:20260420T181955
CREATED:20240116T151431Z
LAST-MODIFIED:20240715T101055Z
UID:1117-1709841600-1709848800@landesfrauenrat-hamburg.de
SUMMARY:Benefizkonzert zum Auftakt des Internationalen Frauentages
DESCRIPTION:Gemeinsam mit den Freunden der Kammersinfonie Hamburg lädt der Landesfrauenrat Hamburg zu einem Benefizkonzert zugunsten der Hamburger Frauenhäuser ein.\n \nWürdigen Sie zusammen mit uns die Werke großartiger Komponistinnen und unterstützen die wichtige Arbeit der Hamburger Frauenhäuser. Am Vorabend des Internationalen Frauentags wird ausschließlich weiblichen Komponistinnen eine Bühne gegeben\, die nur unter schwierigsten Bedingungen in der Lage waren\, ihr großartigen Werke zu schaffen. Hamburgs Zweite Bürgermeisterin Katharina Fegebank wird ein Grußwort sprechen. Der Abend soll dazu anregen\, über die bestehende strukturelle Ungleichheit in unserer Gesellschaft zu sprechen und einen gebührenden Auftakt zum feministischen Kampftag am 8. März bilden. Die Erlöse des Abends gehen an die Hamburger Frauenhäuser als unentbehrliche Schutzräume gegen patriarchale Gewalt. \nHier geht’s zu den Tickets ab 20€!
URL:https://landesfrauenrat-hamburg.de/event/benefizkonzert-zum-auftakt-des-internationalen-frauentages/
LOCATION:Laeiszhalle\, Johannes-Brahms-Platz\, Hamburg\, 20355
CATEGORIES:Eigene Veranstaltung,Öffentliche Veranstaltung
ATTACH;FMTTYPE=image/png:https://landesfrauenrat-hamburg.de/wp-content/uploads/2024/01/Website_Benefizkonzert.png
ORGANIZER;CN="Landesfrauenrat Hamburg":MAILTO:info@landesfrauenrat-hamburg.de
END:VEVENT
BEGIN:VEVENT
DTSTART;TZID=UTC:20240308T160000
DTEND;TZID=UTC:20240308T180000
DTSTAMP:20260420T181955
CREATED:20240715T101936Z
LAST-MODIFIED:20240715T101936Z
UID:3041-1709913600-1709920800@landesfrauenrat-hamburg.de
SUMMARY:Senatsempfang zum 75-jährigen Jubiläum des Landesfrauenrats
DESCRIPTION:Anlässlich des Senatsempfangs zum Internationalen Frauentag würdigt Gleichstellungssenatorin Katharina Fegebank am 8. März mit rund 500 Gäst*innen das 75-jährige Jubiläum des Landesfrauenrats Hamburg e. V.
URL:https://landesfrauenrat-hamburg.de/event/senatsempfang-zum-75-jaehrigen-jubilaeum-des-landesfrauenrats/
LOCATION:Rathaus Hamburg\, Rathausmarkt 1\, Hamburg\, Hamburg\, 20095\, Deutschland
CATEGORIES:Senatsempfang
END:VEVENT
BEGIN:VEVENT
DTSTART;TZID=UTC:20240313T190000
DTEND;TZID=UTC:20240313T210000
DTSTAMP:20260420T181955
CREATED:20240715T094658Z
LAST-MODIFIED:20240715T094658Z
UID:3032-1710356400-1710363600@landesfrauenrat-hamburg.de
SUMMARY:Feministisches Forum im März
DESCRIPTION:Feministischer Kinoabend im Landesfrauenrat: Wir zeigen den Film »Sultanas Traum«\n \n\n\nWir freuen uns\, unsere Veranstaltungsreihe »Feministisches Forum« fortzuführen: Dieses Mal hören wir keinen Vortrag aus der Sphäre der Gleichstellung\, sondern laden euch zu einem Kinoabend in entspannter Runde ein. Wir zeigen den feministischen Animationsfilm »Sultanas Traum« und können anschließend bei Popcorn über das Erlebte sprechen. \nEine Anmeldung ist nicht erforderlich. Um die Leihgebühr des aktuellen Films zu kompensieren\, freuen wir uns über eine Spende von 5€ pro Besucher*in. \nSultanas Traum basiert auf dem gleichnamigen Pionierwerk der feministischen utopischen Literatur von 1905. Die Kurzgeschichte skizziert eine utopische Zukunft\, in der Männer in den häuslichen Bereich zurückgedrängt wurden\, während Frauen eine friedliche und gerechte Gesellschaft in Harmonie mit der Natur gestalten. Die Geschichte übt Kritik an Patriarchat\, Krieg\, Industrialisierung sowie Ausbeutung der natürlichen Ressourcen und spricht damit – auf eine unerwartet visionäre Art – die Anliegen unserer heutigen Welt an. \nIsabel Herguera wusste sofort\, dass dies der nächste Film war\, den sie machen wollte. Eine Indienreise half ihr zu verstehen\, wie viel Mut die Autorin brauchte\, um sich einer patriarchalen Gesellschaft ihrer Zeit entgegenzustellen. Der Regisseurin ist ein Animationsfilm gelungen\, der das Sehen und Hören zum Genuss macht.
URL:https://landesfrauenrat-hamburg.de/event/feministisches-forum-im-maerz/
LOCATION:Landesfrauenrat Hamburg e.V.\, Grindelallee 43\, Hamburg\, Hamburg\, 20146\, Deutschland
CATEGORIES:Feministisches Forum,Öffentliche Veranstaltung
ATTACH;FMTTYPE=image/png:https://landesfrauenrat-hamburg.de/wp-content/uploads/2024/07/FF_Maerz.png
ORGANIZER;CN="Landesfrauenrat Hamburg":MAILTO:info@landesfrauenrat-hamburg.de
END:VEVENT
END:VCALENDAR