BEGIN:VCALENDAR
VERSION:2.0
PRODID:-//Landesfrauenrat Hamburg - ECPv6.15.17.1//NONSGML v1.0//EN
CALSCALE:GREGORIAN
METHOD:PUBLISH
X-WR-CALNAME:Landesfrauenrat Hamburg
X-ORIGINAL-URL:https://landesfrauenrat-hamburg.de
X-WR-CALDESC:Veranstaltungen für Landesfrauenrat Hamburg
REFRESH-INTERVAL;VALUE=DURATION:PT1H
X-Robots-Tag:noindex
X-PUBLISHED-TTL:PT1H
BEGIN:VTIMEZONE
TZID:UTC
BEGIN:STANDARD
TZOFFSETFROM:+0000
TZOFFSETTO:+0000
TZNAME:UTC
DTSTART:20230101T000000
END:STANDARD
END:VTIMEZONE
BEGIN:VEVENT
DTSTART;TZID=UTC:20240210T120000
DTEND;TZID=UTC:20240210T140000
DTSTAMP:20260420T195502
CREATED:20240715T112459Z
LAST-MODIFIED:20240715T112459Z
UID:3087-1707566400-1707573600@landesfrauenrat-hamburg.de
SUMMARY:Feministisches Forum im Februar
DESCRIPTION:Offenes Tanztraining für One Billion Rising \nDas Feministische Forum im Februar möchten wir dazu nutzen\, uns gemeinsam auf den Tanz für Solidarität bei der One Billion Rising Demo vorzubereiten. Am Samstag könnt ihr einfach ohne Anmeldung dazu stoßen und in sicherer Atmosphäre tanzen! \nMehr Infos zu Demo am 14. Februar gibt es hier.
URL:https://landesfrauenrat-hamburg.de/event/feministisches-forum-im-februar/
LOCATION:Landesfrauenrat Hamburg e.V.\, Grindelallee 43\, Hamburg\, Hamburg\, 20146\, Deutschland
CATEGORIES:Eigene Veranstaltung,Feministisches Forum,Öffentliche Veranstaltung
ATTACH;FMTTYPE=image/png:https://landesfrauenrat-hamburg.de/wp-content/uploads/2024/07/Website_FF_Februar24.png
ORGANIZER;CN="Landesfrauenrat Hamburg":MAILTO:info@landesfrauenrat-hamburg.de
END:VEVENT
BEGIN:VEVENT
DTSTART;TZID=UTC:20240213T163000
DTEND;TZID=UTC:20240213T183000
DTSTAMP:20260420T195502
CREATED:20240715T112944Z
LAST-MODIFIED:20240715T115256Z
UID:3090-1707841800-1707849000@landesfrauenrat-hamburg.de
SUMMARY:One Billion Rising Demo
DESCRIPTION:Kommt mit uns gemeinsam zur All Gender Demo von One Billion Rising am 14. Februar.  \nDie Demo startet um 16:30 Uhr am Hauptbahnhof\, Ausgang Spitaler Straße. Wir tanzen für Solidarität\, Gerechtigkeit und Sicherheit – wir tanzen gegen Feminizide\, Sexismus und Ausbeutung! \nMehr Infos hier
URL:https://landesfrauenrat-hamburg.de/event/one-billion-rising-demo/
LOCATION:Hauptbahnhof Hamburg\, Hachmannplatz 16\, Hamburg\, Hamburg\, 20099\, Deutschland
CATEGORIES:Öffentliche Veranstaltung
ORGANIZER;CN="One Billion Rising":MAILTO:info@onebillionrising-in-hamburg.de
END:VEVENT
BEGIN:VEVENT
DTSTART;TZID=UTC:20240229T090000
DTEND;TZID=UTC:20240229T230000
DTSTAMP:20260420T195502
CREATED:20240116T160331Z
LAST-MODIFIED:20240715T102511Z
UID:1166-1709197200-1709247600@landesfrauenrat-hamburg.de
SUMMARY:Equal Care Day Festival 2024 in Hamburg
DESCRIPTION:  \nIn Hamburg feiern wir gemeinsam den Equal Care Day! \nAuf dem ersten Equal Care Day Festival in Hamburg zeigen wir\, wie wichtig unser Engagement und unsere Projekte für ein gutes und faires Zusammenleben sind! Gemeinsam mit Engagierten\, Politiker*innen\, Forscher*innen und Unternehmer*innen feiern wir die bunte Kraft und Vielfalt der Care-Landschaft Hamburgs. Auf Podiumsdiskussionen\, in Fachvorträgen und Workshops diskutieren wir über eine faire Verteilung der Sorge- und Selbstsorgearbeit und bringen sie auf Hamburgs Bühne. \nDas Programm findet sich unter diesem Link. \nDas Festival wird vom Landesfrauenrat Hamburg e.V. und dem Haus des Engagements /AKTIVOLI Landesnetzwerk Hamburg e.V. veranstaltet und durch viele Verbände\, Unternehmen und Engagierte unterstützt. Mit unserem Programm sind wir Teil der Initiative Equal Care\, die seit 2016 ganz Deutschland zum Thema Equal Care vernetzt und die bundesweite Übertragung des Programms in eine digitale Diskussionslandschaft möglich macht.
URL:https://landesfrauenrat-hamburg.de/event/equal-care-day-festival-2024-in-hamburg/
LOCATION:Afrotopia\, Biedermannplatz 19\, Hamburg\, 22083
CATEGORIES:Aktionstag,Eigene Veranstaltung,Öffentliche Veranstaltung
ATTACH;FMTTYPE=image/png:https://landesfrauenrat-hamburg.de/wp-content/uploads/2024/01/Website_ECD.png
ORGANIZER;CN="Landesfrauenrat Hamburg":MAILTO:info@landesfrauenrat-hamburg.de
END:VEVENT
END:VCALENDAR