BEGIN:VCALENDAR
VERSION:2.0
PRODID:-//Landesfrauenrat Hamburg - ECPv6.15.17.1//NONSGML v1.0//EN
CALSCALE:GREGORIAN
METHOD:PUBLISH
X-ORIGINAL-URL:https://landesfrauenrat-hamburg.de
X-WR-CALDESC:Veranstaltungen für Landesfrauenrat Hamburg
REFRESH-INTERVAL;VALUE=DURATION:PT1H
X-Robots-Tag:noindex
X-PUBLISHED-TTL:PT1H
BEGIN:VTIMEZONE
TZID:UTC
BEGIN:STANDARD
TZOFFSETFROM:+0000
TZOFFSETTO:+0000
TZNAME:UTC
DTSTART:20210101T000000
END:STANDARD
END:VTIMEZONE
BEGIN:VEVENT
DTSTART;TZID=UTC:20221103T180000
DTEND;TZID=UTC:20221103T203000
DTSTAMP:20260421T183439
CREATED:20240715T141821Z
LAST-MODIFIED:20240715T141821Z
UID:3190-1667498400-1667507400@landesfrauenrat-hamburg.de
SUMMARY:Abschlussausstellung zum Digitalisierungsprojekt »Du und Deine Welt«
DESCRIPTION:Abschlussausstellung zum Digitalisierungsprojekt »Du und Deine Welt – Frauen als Verbraucherinnen in Hamburg« im FrauenStadtArchiv \nZum Abschluss unseres diesjährigen Digitalisierungsprojekts laden wir herzlich zu einer multimedialen Abschlussveranstaltung ein. Für die Eröffnung am 03.11. um 18:00 wird um Anmeldung unter https://t.co/g0W3KgaWwS gebeten!\n\nIm Rahmen des Projektes konnten wir zahlreiche Fotografien\, Tonaufnahmen und Videobeiträge zu Hamburgs bekannter Verbraucher*innenmesse »Du und Deine Welt« archivieren und digitalisieren. Kommt vorbei!
URL:https://landesfrauenrat-hamburg.de/event/abschlussausstellung-zum-digitalisierungsprojekt-du-und-deine-welt/
LOCATION:Landesfrauenrat Hamburg e.V.\, Grindelallee 43\, Hamburg\, Hamburg\, 20146\, Deutschland
CATEGORIES:Eigene Veranstaltung,Öffentliche Veranstaltung
ORGANIZER;CN="Landesfrauenrat Hamburg":MAILTO:info@landesfrauenrat-hamburg.de
END:VEVENT
BEGIN:VEVENT
DTSTART;TZID=UTC:20221106T110000
DTEND;TZID=UTC:20221106T140000
DTSTAMP:20260421T183439
CREATED:20240715T142159Z
LAST-MODIFIED:20240715T142159Z
UID:3194-1667732400-1667743200@landesfrauenrat-hamburg.de
SUMMARY:16. Frauenherbstmahlzeit
DESCRIPTION:Große Politik nicht nur von »großen Männern«! – 16. Frauenherbstmahlzeit des Landesfrauenrat Hamburg \n\n\nZum übergeordneten Thema der weiblichen Diplomatie und feministischen Außenpolitik kommen dieses Jahr wieder zahlreiche Frauen zur 16. Frauenherbstmahlzeit zusammen\, um über die gleichberechtige Teilhabe von Frauen und ihrer Rolle in außenpolitischen Entscheidungsprozessen zu diskutieren.
URL:https://landesfrauenrat-hamburg.de/event/16-frauenherbstmahlzeit/
LOCATION:Mövenpick Hotel\, Sternschanze 6\, Hamburg\, Hamburg\, 20357\, Deutschland
CATEGORIES:Eigene Veranstaltung,Frauenherbstmahlzeit
ORGANIZER;CN="Landesfrauenrat Hamburg":MAILTO:info@landesfrauenrat-hamburg.de
END:VEVENT
BEGIN:VEVENT
DTSTART;TZID=UTC:20221107T180000
DTEND;TZID=UTC:20221107T200000
DTSTAMP:20260421T183439
CREATED:20240715T141325Z
LAST-MODIFIED:20240715T143936Z
UID:3186-1667844000-1667851200@landesfrauenrat-hamburg.de
SUMMARY:Mitgliederversammlung November 2022
DESCRIPTION:Die Mitgliederversammlung ist das oberste Organ des Vereins. Seit der Satzungsänderung im Mai 2023 findet mindestes viermal im Jahr am ersten Montag im Monat statt. Unsere Mitgliederversammlungen beginnen um 18.00 Uhr in den Räumen des Landesfrauenrats. Ab 17.30 Uhr besteht die Gelegenheit sich bei einem kleinen Imbiss zu vernetzen und in gemütlicher Runde auszutauschen.
URL:https://landesfrauenrat-hamburg.de/event/mitgliederversammlung-november-2022/
LOCATION:Landesfrauenrat Hamburg e.V.\, Grindelallee 43\, Hamburg\, Hamburg\, 20146\, Deutschland
CATEGORIES:Eigene Veranstaltung,Mitgliederversammlung
ORGANIZER;CN="Landesfrauenrat Hamburg":MAILTO:info@landesfrauenrat-hamburg.de
END:VEVENT
END:VCALENDAR