BEGIN:VCALENDAR
VERSION:2.0
PRODID:-//Landesfrauenrat Hamburg - ECPv6.15.17.1//NONSGML v1.0//EN
CALSCALE:GREGORIAN
METHOD:PUBLISH
X-ORIGINAL-URL:https://landesfrauenrat-hamburg.de
X-WR-CALDESC:Veranstaltungen für Landesfrauenrat Hamburg
REFRESH-INTERVAL;VALUE=DURATION:PT1H
X-Robots-Tag:noindex
X-PUBLISHED-TTL:PT1H
BEGIN:VTIMEZONE
TZID:UTC
BEGIN:STANDARD
TZOFFSETFROM:+0000
TZOFFSETTO:+0000
TZNAME:UTC
DTSTART:20210101T000000
END:STANDARD
END:VTIMEZONE
BEGIN:VEVENT
DTSTART;TZID=UTC:20220425T190000
DTEND;TZID=UTC:20220425T210000
DTSTAMP:20260422T054053
CREATED:20240715T140548Z
LAST-MODIFIED:20240715T140548Z
UID:3178-1650913200-1650920400@landesfrauenrat-hamburg.de
SUMMARY:Du und Deine Welt – Begegnungsort für Frauen in Hamburg
DESCRIPTION:Du und Deine Welt – Begegnungsort für Frauen in Hamburg\nOnline-Veranstaltung \nZur Einführung in das Digitalisierungsprojekt »Du und Deine Welt – Frauen als Verbraucherinnen in Hamburg« gibt es am 25.04. um 19:00 Uhr eine Online-Veranstaltung. Die Leiterin des FrauenStadtArchivs\, Vivien Helmli\, spricht darüber\, inwiefern die Messe relevant für das frauenbewegte Leben in der Stadt war und welche Auswirkungen bis heute noch zu spüren sind. Ausgewählte Stücke aus dem Bestand werden vorgestellt und es wird Raum zur Diskussion geben\, wie Räume in der Stadt nach Ende der Messe (auch digital) zur Kommunikation zwischen Öffentlichkeit\, Frauenverbänden und Politik genutzt werden.\n\nUm Anmeldung unter info@frauenstadtarchiv.hamburg wird gebeten
URL:https://landesfrauenrat-hamburg.de/event/du-und-deine-welt-begegnungsort-fuer-frauen-in-hamburg/
LOCATION:Hamburg
CATEGORIES:Eigene Veranstaltung,Öffentliche Veranstaltung
ORGANIZER;CN="Landesfrauenrat Hamburg":MAILTO:info@landesfrauenrat-hamburg.de
END:VEVENT
BEGIN:VEVENT
DTSTART;VALUE=DATE:20220428
DTEND;VALUE=DATE:20220429
DTSTAMP:20260422T054053
CREATED:20240715T140901Z
LAST-MODIFIED:20240715T140901Z
UID:3180-1651104000-1651190399@landesfrauenrat-hamburg.de
SUMMARY:Bildet Banden – Gemeinsam in den Beruf
DESCRIPTION:»Bildet Banden – gemeinsam in den Beruf« – Kooperationsveranstaltung FrauenStadtArchiv und Landesfrauenrat Hamburg \nMisogynie\, Gender Pay Gap\, Frauenquote\, Männerberuf? \nDie Berufswelt ist stark durch Themen geprägt\, die dich als Frau betreffen können. Wir möchten dich zu uns in den Landesfrauenrat Hamburg einladen\, um mehr darüber zu erfahren\, was wir gemeinsam tun können! Das Angebot richtet sich an Mädchen in der 9. und 10. Klasse. \nGemeinsam mit dem FrauenStadtArchiv Hamburg haben wir uns etwas überlegt: zusammen mit anderen Mädchen kannst du in einem Mystery-Rätsel im True Crime-Format eine Lösung auf die Frage erschließen\, warum geschlechterbezogene Themen in der Berufswelt überhaupt relevant sind. Außerdem haben wir verschiedene Frauen eingeladen\, die in männerdominierten Berufen arbeiten\, die dir gern alle deine Fragen zum Thema Beruf beantworten.
URL:https://landesfrauenrat-hamburg.de/event/bildet-banden-gemeinsam-in-den-beruf/
LOCATION:Landesfrauenrat Hamburg e.V.\, Grindelallee 43\, Hamburg\, Hamburg\, 20146\, Deutschland
CATEGORIES:Aktionstag,Eigene Veranstaltung,Öffentliche Veranstaltung
ORGANIZER;CN="Landesfrauenrat Hamburg":MAILTO:info@landesfrauenrat-hamburg.de
END:VEVENT
END:VCALENDAR