BEGIN:VCALENDAR
VERSION:2.0
PRODID:-//Landesfrauenrat Hamburg - ECPv6.15.17.1//NONSGML v1.0//EN
CALSCALE:GREGORIAN
METHOD:PUBLISH
X-WR-CALNAME:Landesfrauenrat Hamburg
X-ORIGINAL-URL:https://landesfrauenrat-hamburg.de
X-WR-CALDESC:Veranstaltungen für Landesfrauenrat Hamburg
REFRESH-INTERVAL;VALUE=DURATION:PT1H
X-Robots-Tag:noindex
X-PUBLISHED-TTL:PT1H
BEGIN:VTIMEZONE
TZID:UTC
BEGIN:STANDARD
TZOFFSETFROM:+0000
TZOFFSETTO:+0000
TZNAME:UTC
DTSTART:20230101T000000
END:STANDARD
END:VTIMEZONE
BEGIN:VEVENT
DTSTART;TZID=UTC:20241007T180000
DTEND;TZID=UTC:20241007T190000
DTSTAMP:20260420T092236
CREATED:20240715T105129Z
LAST-MODIFIED:20240924T101622Z
UID:3063-1728324000-1728327600@landesfrauenrat-hamburg.de
SUMMARY:Mitgliederversammlung Oktober 2024
DESCRIPTION:Die Mitgliederversammlung ist das oberste Organ des Vereins. Sie findet mindestes viermal im Jahr am ersten Montag im Monat statt. \nIm Oktober erwarten uns die Wahl der Hammonia und der Finanzbericht 2023 mit Entlastung des Vorstands.  \nAb 19 Uhr beginnt unser Feministisches Forum zum Thema »Gemeinsam gegen Armut von Frauen*«. Mehr Info dazu gibt es hier
URL:https://landesfrauenrat-hamburg.de/event/mitgliederversammlung/
LOCATION:Landesfrauenrat Hamburg e.V.\, Grindelallee 43\, Hamburg\, Hamburg\, 20146\, Deutschland
CATEGORIES:Eigene Veranstaltung,Mitgliederversammlung
ORGANIZER;CN="Landesfrauenrat Hamburg":MAILTO:info@landesfrauenrat-hamburg.de
END:VEVENT
BEGIN:VEVENT
DTSTART;TZID=UTC:20241007T190000
DTEND;TZID=UTC:20241007T200000
DTSTAMP:20260420T092236
CREATED:20240924T101507Z
LAST-MODIFIED:20240924T101507Z
UID:5228-1728327600-1728331200@landesfrauenrat-hamburg.de
SUMMARY:Feministisches Forum im Oktober
DESCRIPTION:Workshop »Gemeinsam gegen Armut von Frauen*« \nEines der wichtigsten Themen in der Arbeit des Landesfrauenrats ist die Bekämpfung der Armut von Frauen*. Bereits vor mehreren Jahren haben wir einen Forderungs- und Maßnahmenkatalog aufgestellt\, Lösungsvorschläge gemacht\, die Politik informiert. Passiert ist fast gar nichts. \nAber: die Armut von Frauen* wird täglich für uns alle sichtbarer und sie nimmt\nzu. Wir wollen nicht länger abwarten und zusehen\, sondern endlich selbst\nMaßnahmen ergreifen. \nIm Rahmen unserer Veranstaltungsreihe »Feministisches Forum« wollen wir in einem Workshop euer Erfahrungswissen nutzen und gemeinsam Lösungen für Wege aus der Armut entwickeln. \n\nTrägt dein Verband / deine Partei bereits zur Verminderung von Armut\nbei?\nKönnt ihr euch einbringen\, um Armut gar nicht erst aufkommen zu lassen?\nHelft ihr armen Frauen bei der Bewältigung ihrer Probleme\n\nWir freuen uns über einen regen Austausch\, Ideen\, Gedanken\, Wünsche und auch Lösungen. Wer einfach helfen möchte\, ist auch willkommen. Durch den Abend führen Ursula Richter-Schneider vom ZONTA Club Hamburg-Elbufer und unsere Vorständin Angela Fechner. \nEine Anmeldung ist nicht erforderlich
URL:https://landesfrauenrat-hamburg.de/event/feministisches-forum-im-oktober-2/
LOCATION:Landesfrauenrat Hamburg e.V.\, Grindelallee 43\, Hamburg\, Hamburg\, 20146\, Deutschland
CATEGORIES:Eigene Veranstaltung,Feministisches Forum
ATTACH;FMTTYPE=image/png:https://landesfrauenrat-hamburg.de/wp-content/uploads/2024/09/Website_FF_Oktober24.png
ORGANIZER;CN="Landesfrauenrat Hamburg":MAILTO:info@landesfrauenrat-hamburg.de
END:VEVENT
END:VCALENDAR